BEGIN:VCALENDAR
VERSION:2.0
PRODID:-//Edgar County - ECPv6.15.20//NONSGML v1.0//EN
CALSCALE:GREGORIAN
METHOD:PUBLISH
X-ORIGINAL-URL:https://edgarcountyillinois.com
X-WR-CALDESC:Events for Edgar County
REFRESH-INTERVAL;VALUE=DURATION:PT1H
X-Robots-Tag:noindex
X-PUBLISHED-TTL:PT1H
BEGIN:VTIMEZONE
TZID:America/Chicago
BEGIN:DAYLIGHT
TZOFFSETFROM:-0600
TZOFFSETTO:-0500
TZNAME:CDT
DTSTART:20250309T080000
END:DAYLIGHT
BEGIN:STANDARD
TZOFFSETFROM:-0500
TZOFFSETTO:-0600
TZNAME:CST
DTSTART:20251102T070000
END:STANDARD
BEGIN:DAYLIGHT
TZOFFSETFROM:-0600
TZOFFSETTO:-0500
TZNAME:CDT
DTSTART:20260308T080000
END:DAYLIGHT
BEGIN:STANDARD
TZOFFSETFROM:-0500
TZOFFSETTO:-0600
TZNAME:CST
DTSTART:20261101T070000
END:STANDARD
BEGIN:DAYLIGHT
TZOFFSETFROM:-0600
TZOFFSETTO:-0500
TZNAME:CDT
DTSTART:20270314T080000
END:DAYLIGHT
BEGIN:STANDARD
TZOFFSETFROM:-0500
TZOFFSETTO:-0600
TZNAME:CST
DTSTART:20271107T070000
END:STANDARD
END:VTIMEZONE
BEGIN:VEVENT
DTSTART;TZID=America/Chicago:20260810T170000
DTEND;TZID=America/Chicago:20260810T170000
DTSTAMP:20260420T133327
CREATED:20251229T192305Z
LAST-MODIFIED:20260406T124242Z
UID:5423-1786381200-1786381200@edgarcountyillinois.com
SUMMARY:Study Session
DESCRIPTION:Evening Session
URL:https://edgarcountyillinois.com/event/study-session-20/
LOCATION:Edgar County Highway Department\, J76C+6M Paris\, Paris Township\, IL\, Paris\, IL\, 61944\, United States
CATEGORIES:Meeting
END:VEVENT
BEGIN:VEVENT
DTSTART;TZID=America/Chicago:20260812T090000
DTEND;TZID=America/Chicago:20260812T090000
DTSTAMP:20260420T133327
CREATED:20251229T191841Z
LAST-MODIFIED:20251229T191841Z
UID:5396-1786525200-1786525200@edgarcountyillinois.com
SUMMARY:Board Meeting
DESCRIPTION:
URL:https://edgarcountyillinois.com/event/board-meeting-8/
LOCATION:Edgar County Courthouse\, J863+MP Paris\, Paris Township\, IL\, Pairs\, IL\, 61944\, United States
CATEGORIES:Meeting
END:VEVENT
BEGIN:VEVENT
DTSTART;TZID=America/Chicago:20260817T130000
DTEND;TZID=America/Chicago:20260817T130000
DTSTAMP:20260420T133327
CREATED:20251229T192543Z
LAST-MODIFIED:20251229T192543Z
UID:5441-1786971600-1786971600@edgarcountyillinois.com
SUMMARY:ETSB Meeting
DESCRIPTION:
URL:https://edgarcountyillinois.com/event/etsb-meeting-8/
LOCATION:Paris Fire Dept Hartley-Taylor Training Center\, 11200 Cherry Point St\, Paris\, IL\, 61944\, United States
CATEGORIES:Meeting
END:VEVENT
BEGIN:VEVENT
DTSTART;TZID=America/Chicago:20260824T093000
DTEND;TZID=America/Chicago:20260824T093000
DTSTAMP:20260420T133327
CREATED:20251229T192305Z
LAST-MODIFIED:20260406T124243Z
UID:5424-1787563800-1787563800@edgarcountyillinois.com
SUMMARY:Study Session
DESCRIPTION:
URL:https://edgarcountyillinois.com/event/study-session-21/
LOCATION:Edgar County Highway Department\, J76C+6M Paris\, Paris Township\, IL\, Paris\, IL\, 61944\, United States
CATEGORIES:Meeting
END:VEVENT
END:VCALENDAR